BEGIN:VCALENDAR
VERSION:2.0
PRODID:-//Alester Carmichael - ECPv6.9.0//NONSGML v1.0//EN
CALSCALE:GREGORIAN
METHOD:PUBLISH
X-ORIGINAL-URL:https://dev.alestercarmichael.com
X-WR-CALDESC:Events for Alester Carmichael
REFRESH-INTERVAL;VALUE=DURATION:PT1H
X-Robots-Tag:noindex
X-PUBLISHED-TTL:PT1H
BEGIN:VTIMEZONE
TZID:UTC
BEGIN:STANDARD
TZOFFSETFROM:+0000
TZOFFSETTO:+0000
TZNAME:UTC
DTSTART:20240101T000000
END:STANDARD
END:VTIMEZONE
BEGIN:VEVENT
DTSTART;TZID=UTC:20240928T080000
DTEND;TZID=UTC:20241031T170000
DTSTAMP:20260423T000452
CREATED:20240705T222903Z
LAST-MODIFIED:20241015T233053Z
UID:10000015-1727510400-1730394000@dev.alestercarmichael.com
SUMMARY:Desert Design Week
DESCRIPTION:Scottsdale\, Arizona
URL:https://dev.alestercarmichael.com/our-event/desert-design-week/
LOCATION:AZ
CATEGORIES:Community & Culture
ATTACH;FMTTYPE=image/jpeg:https://dev.alestercarmichael.com/wp-content/uploads/2024/07/William-Ashley-3.jpg
END:VEVENT
BEGIN:VEVENT
DTSTART;TZID=UTC:20241016T080000
DTEND;TZID=UTC:20241231T170000
DTSTAMP:20260423T000453
CREATED:20241016T212208Z
LAST-MODIFIED:20241016T212208Z
UID:10000016-1729065600-1735664400@dev.alestercarmichael.com
SUMMARY:VIP OPEN HOUSE - Invite Only
DESCRIPTION:
URL:https://dev.alestercarmichael.com/our-event/vip-open-house-invite-only/
LOCATION:AZ
ATTACH;FMTTYPE=image/jpeg:https://dev.alestercarmichael.com/wp-content/uploads/2024/10/images.jpeg
END:VEVENT
END:VCALENDAR