BEGIN:VCALENDAR
VERSION:2.0
PRODID:-//Alester Carmichael - ECPv6.9.0//NONSGML v1.0//EN
CALSCALE:GREGORIAN
METHOD:PUBLISH
X-WR-CALNAME:Alester Carmichael
X-ORIGINAL-URL:https://dev.alestercarmichael.com
X-WR-CALDESC:Events for Alester Carmichael
REFRESH-INTERVAL;VALUE=DURATION:PT1H
X-Robots-Tag:noindex
X-PUBLISHED-TTL:PT1H
BEGIN:VTIMEZONE
TZID:UTC
BEGIN:STANDARD
TZOFFSETFROM:+0000
TZOFFSETTO:+0000
TZNAME:UTC
DTSTART:20230101T000000
END:STANDARD
END:VTIMEZONE
BEGIN:VEVENT
DTSTART;TZID=UTC:20240406T080000
DTEND;TZID=UTC:20240406T170000
DTSTAMP:20260421T062319
CREATED:20250115T153833Z
LAST-MODIFIED:20240410T123846Z
UID:10000004-1712390400-1712422800@dev.alestercarmichael.com
SUMMARY:Night at the Airpark
DESCRIPTION:kajsdhf;kjhas;dlfkj;alksdjf;lkjasdf
URL:https://dev.alestercarmichael.com/our-event/night-at-the-airpark/
LOCATION:Your Venue Here
ATTACH;FMTTYPE=image/png:https://dev.alestercarmichael.com/wp-content/uploads/2023/01/NetworkVideoPlaceHolder.png
END:VEVENT
BEGIN:VEVENT
DTSTART;TZID=UTC:20240229T080000
DTEND;TZID=UTC:20240229T170000
DTSTAMP:20260421T062319
CREATED:20250719T152734Z
LAST-MODIFIED:20240410T123857Z
UID:10000009-1709193600-1709226000@dev.alestercarmichael.com
SUMMARY:Rachel's Big Reveal
DESCRIPTION:;lajfdashg;kljfdg; ;la dlkja d;l asd;slk a;lsk df;lkj asd;lklj askj flk adllkj asdlkj asllkj aslkj dfs
URL:https://dev.alestercarmichael.com/our-event/rachels-big-reveal/
CATEGORIES:Business & Professional
ATTACH;FMTTYPE=image/jpeg:https://dev.alestercarmichael.com/wp-content/uploads/2022/11/Michael-Aram-Jewelry-Spring-2020-Model-scaled.jpg
END:VEVENT
BEGIN:VEVENT
DTSTART;TZID=UTC:20240218T080000
DTEND;TZID=UTC:20240218T170000
DTSTAMP:20260421T062319
CREATED:20230116T215653Z
LAST-MODIFIED:20230827T012623Z
UID:10000006-1708243200-1708275600@dev.alestercarmichael.com
SUMMARY:Trunk Show
DESCRIPTION:Trunk Show with amazing clothing.
URL:https://dev.alestercarmichael.com/our-event/trunk-show/
LOCATION:Airpark\, 15509 N. Scottsdale Rd.\, Scottsdale\, AZ\, 85254\, United States
ATTACH;FMTTYPE=image/jpeg:https://dev.alestercarmichael.com/wp-content/uploads/2022/11/download.jpg
END:VEVENT
BEGIN:VEVENT
DTSTART;TZID=UTC:20240105T080000
DTEND;TZID=UTC:20240105T170000
DTSTAMP:20260421T062319
CREATED:20250117T135125Z
LAST-MODIFIED:20240410T123910Z
UID:10000008-1704441600-1704474000@dev.alestercarmichael.com
SUMMARY:Art Studio Showcase
DESCRIPTION:
URL:https://dev.alestercarmichael.com/our-event/art-studio-showcase/
ATTACH;FMTTYPE=image/jpeg:https://dev.alestercarmichael.com/wp-content/uploads/2023/01/Screenshot_20230116-1540331.jpg
END:VEVENT
BEGIN:VEVENT
DTSTART;TZID=UTC:20230305T080000
DTEND;TZID=UTC:20230305T170000
DTSTAMP:20260421T062319
CREATED:20230116T223159Z
LAST-MODIFIED:20230116T223429Z
UID:10000007-1678003200-1678035600@dev.alestercarmichael.com
SUMMARY:VIP House Preview
DESCRIPTION:
URL:https://dev.alestercarmichael.com/our-event/vip-house-preview/
LOCATION:15 Fox Glen Rd\, 15509 N. Scottsdale Rd. Suite 1020\, Scottsdale\, AZ\, 85254
END:VEVENT
BEGIN:VEVENT
DTSTART;TZID=UTC:20230303T080000
DTEND;TZID=UTC:20230303T170000
DTSTAMP:20260421T062319
CREATED:20250115T162254Z
LAST-MODIFIED:20240410T123820Z
UID:10000005-1677830400-1677862800@dev.alestercarmichael.com
SUMMARY:VIP Event
DESCRIPTION:;alksd;lkasd;flkja;sdkjf;laksdjf;lkajsd;flkj
URL:https://dev.alestercarmichael.com/our-event/1510/
LOCATION:Airpark\, 15509 N. Scottsdale Rd.\, Scottsdale\, AZ\, 85254\, United States
END:VEVENT
END:VCALENDAR