BEGIN:VCALENDAR
VERSION:2.0
PRODID:-//Alester Carmichael - ECPv6.9.0//NONSGML v1.0//EN
CALSCALE:GREGORIAN
METHOD:PUBLISH
X-WR-CALNAME:Alester Carmichael
X-ORIGINAL-URL:https://dev.alestercarmichael.com
X-WR-CALDESC:Events for Alester Carmichael
REFRESH-INTERVAL;VALUE=DURATION:PT1H
X-Robots-Tag:noindex
X-PUBLISHED-TTL:PT1H
BEGIN:VTIMEZONE
TZID:UTC
BEGIN:STANDARD
TZOFFSETFROM:+0000
TZOFFSETTO:+0000
TZNAME:UTC
DTSTART:20240101T000000
END:STANDARD
END:VTIMEZONE
BEGIN:VEVENT
DTSTART;TZID=UTC:20240928T080000
DTEND;TZID=UTC:20241031T170000
DTSTAMP:20260423T104412
CREATED:20240705T222903Z
LAST-MODIFIED:20241015T233053Z
UID:10000015-1727510400-1730394000@dev.alestercarmichael.com
SUMMARY:Desert Design Week
DESCRIPTION:Scottsdale\, Arizona
URL:https://dev.alestercarmichael.com/our-event/desert-design-week/
CATEGORIES:Community & Culture
ATTACH;FMTTYPE=image/jpeg:https://dev.alestercarmichael.com/wp-content/uploads/2024/07/William-Ashley-3.jpg
END:VEVENT
BEGIN:VEVENT
DTSTART;VALUE=DATE:20240901
DTEND;VALUE=DATE:20241101
DTSTAMP:20260423T104412
CREATED:20240703T221343Z
LAST-MODIFIED:20241016T130613Z
UID:10000013-1725148800-1730419199@dev.alestercarmichael.com
SUMMARY:Bentley Polo Championship
DESCRIPTION:The Bentley Scottsdale Polo Championships Returns October 26\, 2024! \nThe Captain of the Wales Polo Team calls it “the best polo event in the world.” The Arizona Republic has called the event “polo for the masses.” And they are right. Whether your goal is luxury\, leisure\, or somewhere in between\, all feel welcome and have a role in creating America’s most-attended polo event. \nThis year’s event promises to be a polo experience like never before! Join us for event traditions including live performances\, luxury fashion\, and exotic car displays\, as well as new experiences for this year only. \nMark October 26\, 2024 on your calendar!
URL:https://dev.alestercarmichael.com/our-event/bentley-polo-championship/
CATEGORIES:Community & Culture
ATTACH;FMTTYPE=image/png:https://dev.alestercarmichael.com/wp-content/uploads/2024/07/Polo-2024-Logo-Update.png
END:VEVENT
BEGIN:VEVENT
DTSTART;VALUE=DATE:20240901
DTEND;VALUE=DATE:20241101
DTSTAMP:20260423T104412
CREATED:20240703T220856Z
LAST-MODIFIED:20241015T233728Z
UID:10000012-1725148800-1730419199@dev.alestercarmichael.com
SUMMARY:Barrett-Jackson Fall Auction
DESCRIPTION:  \nSee auction action at its best this October 10-13 at Barrett-Jackson’s Scottsdale Fall Auction! At WestWorld of Scottsdale\, the event will feature all the excitement that makes Barrett-Jackson The World’s Greatest Collector Car Auctions. Witness the bidding excitement in the arena\, capture the car of your dreams\, mingle with celebrities\, experience adrenaline-pumping thrill rides in the latest vehicles from top automakers\, take in the competition during the Future Collector Car Show\, shop in the vast Exhibitor Marketplace and enjoy a festival of food.
URL:https://dev.alestercarmichael.com/our-event/barrett-jackson-fall-auction/
CATEGORIES:Community & Culture
ATTACH;FMTTYPE=image/jpeg:https://dev.alestercarmichael.com/wp-content/uploads/2024/07/38adfb3ab963f57899d3a4901f75a781_XL.jpg
END:VEVENT
END:VCALENDAR